BEGIN:VCALENDAR
VERSION:2.0
PRODID:-//Tampa Bay HC - ECPv6.15.17.1//NONSGML v1.0//EN
CALSCALE:GREGORIAN
METHOD:PUBLISH
X-ORIGINAL-URL:https://www.tampabayhc.com
X-WR-CALDESC:Events for Tampa Bay HC
REFRESH-INTERVAL;VALUE=DURATION:PT1H
X-Robots-Tag:noindex
X-PUBLISHED-TTL:PT1H
BEGIN:VTIMEZONE
TZID:America/New_York
BEGIN:DAYLIGHT
TZOFFSETFROM:-0500
TZOFFSETTO:-0400
TZNAME:EDT
DTSTART:20240310T070000
END:DAYLIGHT
BEGIN:STANDARD
TZOFFSETFROM:-0400
TZOFFSETTO:-0500
TZNAME:EST
DTSTART:20241103T060000
END:STANDARD
BEGIN:DAYLIGHT
TZOFFSETFROM:-0500
TZOFFSETTO:-0400
TZNAME:EDT
DTSTART:20250309T070000
END:DAYLIGHT
BEGIN:STANDARD
TZOFFSETFROM:-0400
TZOFFSETTO:-0500
TZNAME:EST
DTSTART:20251102T060000
END:STANDARD
BEGIN:DAYLIGHT
TZOFFSETFROM:-0500
TZOFFSETTO:-0400
TZNAME:EDT
DTSTART:20260308T070000
END:DAYLIGHT
BEGIN:STANDARD
TZOFFSETFROM:-0400
TZOFFSETTO:-0500
TZNAME:EST
DTSTART:20261101T060000
END:STANDARD
END:VTIMEZONE
BEGIN:VTIMEZONE
TZID:UTC
BEGIN:STANDARD
TZOFFSETFROM:+0000
TZOFFSETTO:+0000
TZNAME:UTC
DTSTART:20230101T000000
END:STANDARD
END:VTIMEZONE
BEGIN:VEVENT
DTSTART;TZID=America/New_York:20250727T190000
DTEND;TZID=America/New_York:20250727T200000
DTSTAMP:20260424T111833
CREATED:20250621T122038Z
LAST-MODIFIED:20250621T124019Z
UID:10000021-1753642800-1753646400@www.tampabayhc.com
SUMMARY:TBHC 4v4 Sunday Summer Scrimmage - 14U
DESCRIPTION:Sign Up Here >
URL:https://www.tampabayhc.com/event/tbhc-4v4-sunday-summer-scrimmage-14u-2/2025-07-27/
LOCATION:TBSA\, 255 Forest Lakes Blvd.\, Oldsmar\, FL\, 34677
ATTACH;FMTTYPE=image/png:https://www.tampabayhc.com/wp-content/uploads/sites/334/2025/06/4v4Poster2025v2.png
END:VEVENT
BEGIN:VEVENT
DTSTART;TZID=America/New_York:20250727T174500
DTEND;TZID=America/New_York:20250727T184500
DTSTAMP:20260424T111833
CREATED:20250621T121709Z
LAST-MODIFIED:20250621T124104Z
UID:10000025-1753638300-1753641900@www.tampabayhc.com
SUMMARY:TBHC 4v4 Sunday Summer Scrimmage - 12U
DESCRIPTION:Sign Up Here >
URL:https://www.tampabayhc.com/event/tbhc-4v4-sunday-summer-scrimmage-12u/2025-07-27/
LOCATION:TBSA\, 255 Forest Lakes Blvd.\, Oldsmar\, FL\, 34677
ATTACH;FMTTYPE=image/png:https://www.tampabayhc.com/wp-content/uploads/sites/334/2025/06/4v4Poster2025v2.png
END:VEVENT
BEGIN:VEVENT
DTSTART;TZID=America/New_York:20250727T163000
DTEND;TZID=America/New_York:20250727T173000
DTSTAMP:20260424T111833
CREATED:20250621T121109Z
LAST-MODIFIED:20250621T124138Z
UID:10000029-1753633800-1753637400@www.tampabayhc.com
SUMMARY:TBHC 4v4 Sunday Summer Scrimmage - 10U
DESCRIPTION:Sign Up Here >
URL:https://www.tampabayhc.com/event/summer-4v4-scrimmage-10u/2025-07-27/
LOCATION:TBSA\, 255 Forest Lakes Blvd.\, Oldsmar\, FL\, 34677
ATTACH;FMTTYPE=image/png:https://www.tampabayhc.com/wp-content/uploads/sites/334/2025/06/4v4Poster2025v2.png
END:VEVENT
BEGIN:VEVENT
DTSTART;TZID=America/New_York:20250720T190000
DTEND;TZID=America/New_York:20250720T200000
DTSTAMP:20260424T111833
CREATED:20250621T122038Z
LAST-MODIFIED:20250621T124019Z
UID:10000020-1753038000-1753041600@www.tampabayhc.com
SUMMARY:TBHC 4v4 Sunday Summer Scrimmage - 14U
DESCRIPTION:Sign Up Here >
URL:https://www.tampabayhc.com/event/tbhc-4v4-sunday-summer-scrimmage-14u-2/2025-07-20/
LOCATION:TBSA\, 255 Forest Lakes Blvd.\, Oldsmar\, FL\, 34677
ATTACH;FMTTYPE=image/png:https://www.tampabayhc.com/wp-content/uploads/sites/334/2025/06/4v4Poster2025v2.png
END:VEVENT
BEGIN:VEVENT
DTSTART;TZID=America/New_York:20250720T174500
DTEND;TZID=America/New_York:20250720T184500
DTSTAMP:20260424T111833
CREATED:20250621T121709Z
LAST-MODIFIED:20250621T124104Z
UID:10000024-1753033500-1753037100@www.tampabayhc.com
SUMMARY:TBHC 4v4 Sunday Summer Scrimmage - 12U
DESCRIPTION:Sign Up Here >
URL:https://www.tampabayhc.com/event/tbhc-4v4-sunday-summer-scrimmage-12u/2025-07-20/
LOCATION:TBSA\, 255 Forest Lakes Blvd.\, Oldsmar\, FL\, 34677
ATTACH;FMTTYPE=image/png:https://www.tampabayhc.com/wp-content/uploads/sites/334/2025/06/4v4Poster2025v2.png
END:VEVENT
BEGIN:VEVENT
DTSTART;TZID=America/New_York:20250720T163000
DTEND;TZID=America/New_York:20250720T173000
DTSTAMP:20260424T111833
CREATED:20250621T121109Z
LAST-MODIFIED:20250621T124138Z
UID:10000028-1753029000-1753032600@www.tampabayhc.com
SUMMARY:TBHC 4v4 Sunday Summer Scrimmage - 10U
DESCRIPTION:Sign Up Here >
URL:https://www.tampabayhc.com/event/summer-4v4-scrimmage-10u/2025-07-20/
LOCATION:TBSA\, 255 Forest Lakes Blvd.\, Oldsmar\, FL\, 34677
ATTACH;FMTTYPE=image/png:https://www.tampabayhc.com/wp-content/uploads/sites/334/2025/06/4v4Poster2025v2.png
END:VEVENT
BEGIN:VEVENT
DTSTART;TZID=America/New_York:20250713T190000
DTEND;TZID=America/New_York:20250713T200000
DTSTAMP:20260424T111833
CREATED:20250621T122038Z
LAST-MODIFIED:20250621T124019Z
UID:10000019-1752433200-1752436800@www.tampabayhc.com
SUMMARY:TBHC 4v4 Sunday Summer Scrimmage - 14U
DESCRIPTION:Sign Up Here >
URL:https://www.tampabayhc.com/event/tbhc-4v4-sunday-summer-scrimmage-14u-2/2025-07-13/
LOCATION:TBSA\, 255 Forest Lakes Blvd.\, Oldsmar\, FL\, 34677
ATTACH;FMTTYPE=image/png:https://www.tampabayhc.com/wp-content/uploads/sites/334/2025/06/4v4Poster2025v2.png
END:VEVENT
BEGIN:VEVENT
DTSTART;TZID=America/New_York:20250713T174500
DTEND;TZID=America/New_York:20250713T184500
DTSTAMP:20260424T111833
CREATED:20250621T121709Z
LAST-MODIFIED:20250621T124104Z
UID:10000023-1752428700-1752432300@www.tampabayhc.com
SUMMARY:TBHC 4v4 Sunday Summer Scrimmage - 12U
DESCRIPTION:Sign Up Here >
URL:https://www.tampabayhc.com/event/tbhc-4v4-sunday-summer-scrimmage-12u/2025-07-13/
LOCATION:TBSA\, 255 Forest Lakes Blvd.\, Oldsmar\, FL\, 34677
ATTACH;FMTTYPE=image/png:https://www.tampabayhc.com/wp-content/uploads/sites/334/2025/06/4v4Poster2025v2.png
END:VEVENT
BEGIN:VEVENT
DTSTART;TZID=America/New_York:20250713T163000
DTEND;TZID=America/New_York:20250713T173000
DTSTAMP:20260424T111833
CREATED:20250621T121109Z
LAST-MODIFIED:20250621T124138Z
UID:10000027-1752424200-1752427800@www.tampabayhc.com
SUMMARY:TBHC 4v4 Sunday Summer Scrimmage - 10U
DESCRIPTION:Sign Up Here >
URL:https://www.tampabayhc.com/event/summer-4v4-scrimmage-10u/2025-07-13/
LOCATION:TBSA\, 255 Forest Lakes Blvd.\, Oldsmar\, FL\, 34677
ATTACH;FMTTYPE=image/png:https://www.tampabayhc.com/wp-content/uploads/sites/334/2025/06/4v4Poster2025v2.png
END:VEVENT
BEGIN:VEVENT
DTSTART;TZID=America/New_York:20250629T190000
DTEND;TZID=America/New_York:20250629T200000
DTSTAMP:20260424T111833
CREATED:20250621T122038Z
LAST-MODIFIED:20250621T124019Z
UID:10000018-1751223600-1751227200@www.tampabayhc.com
SUMMARY:TBHC 4v4 Sunday Summer Scrimmage - 14U
DESCRIPTION:Sign Up Here >
URL:https://www.tampabayhc.com/event/tbhc-4v4-sunday-summer-scrimmage-14u-2/2025-06-29/
LOCATION:TBSA\, 255 Forest Lakes Blvd.\, Oldsmar\, FL\, 34677
ATTACH;FMTTYPE=image/png:https://www.tampabayhc.com/wp-content/uploads/sites/334/2025/06/4v4Poster2025v2.png
END:VEVENT
BEGIN:VEVENT
DTSTART;TZID=America/New_York:20250629T174500
DTEND;TZID=America/New_York:20250629T184500
DTSTAMP:20260424T111833
CREATED:20250621T121709Z
LAST-MODIFIED:20250621T124104Z
UID:10000022-1751219100-1751222700@www.tampabayhc.com
SUMMARY:TBHC 4v4 Sunday Summer Scrimmage - 12U
DESCRIPTION:Sign Up Here >
URL:https://www.tampabayhc.com/event/tbhc-4v4-sunday-summer-scrimmage-12u/2025-06-29/
LOCATION:TBSA\, 255 Forest Lakes Blvd.\, Oldsmar\, FL\, 34677
ATTACH;FMTTYPE=image/png:https://www.tampabayhc.com/wp-content/uploads/sites/334/2025/06/4v4Poster2025v2.png
END:VEVENT
BEGIN:VEVENT
DTSTART;TZID=America/New_York:20250629T163000
DTEND;TZID=America/New_York:20250629T173000
DTSTAMP:20260424T111833
CREATED:20250621T121109Z
LAST-MODIFIED:20250621T124138Z
UID:10000026-1751214600-1751218200@www.tampabayhc.com
SUMMARY:TBHC 4v4 Sunday Summer Scrimmage - 10U
DESCRIPTION:Sign Up Here >
URL:https://www.tampabayhc.com/event/summer-4v4-scrimmage-10u/2025-06-29/
LOCATION:TBSA\, 255 Forest Lakes Blvd.\, Oldsmar\, FL\, 34677
ATTACH;FMTTYPE=image/png:https://www.tampabayhc.com/wp-content/uploads/sites/334/2025/06/4v4Poster2025v2.png
END:VEVENT
BEGIN:VEVENT
DTSTART;VALUE=DATE:20250316
DTEND;VALUE=DATE:20250319
DTSTAMP:20260424T111833
CREATED:20250303T143544Z
LAST-MODIFIED:20250303T143852Z
UID:10000004-1742083200-1742342399@www.tampabayhc.com
SUMMARY:4v4 Spring Shootout Tournament
DESCRIPTION:Sign Up Here >
URL:https://www.tampabayhc.com/event/4v4-spring-shootout-tournament/
LOCATION:TBSA\, 255 Forest Lakes Blvd.\, Oldsmar\, FL\, 34677
ATTACH;FMTTYPE=image/png:https://www.tampabayhc.com/wp-content/uploads/sites/334/2025/03/2025-Spring-4v4-Tournament-01.png
END:VEVENT
BEGIN:VEVENT
DTSTART;VALUE=DATE:20241127
DTEND;VALUE=DATE:20241128
DTSTAMP:20260424T111833
CREATED:20241022T153433Z
LAST-MODIFIED:20241023T193732Z
UID:10000002-1732665600-1732751999@www.tampabayhc.com
SUMMARY:4v4 Turkey Shootout
DESCRIPTION:Thanksgiving Tourney \n10U/12U \n4×4 Half ice • 15 min games\n$85 -PER PLAYER • 6 Games Minimum\nSign up Individually | Teams will be drafted \nSign Up Here >
URL:https://www.tampabayhc.com/event/test-event/
LOCATION:TBSA\, 255 Forest Lakes Blvd.\, Oldsmar\, FL\, 34677
ATTACH;FMTTYPE=image/png:https://www.tampabayhc.com/wp-content/uploads/sites/334/2024/10/TBHC-2024-Thanksgiving-10U12U-Tourney.png
END:VEVENT
BEGIN:VEVENT
DTSTART;TZID=UTC:20241020T080000
DTEND;TZID=UTC:20241020T170000
DTSTAMP:20260424T111833
CREATED:20241020T182013Z
LAST-MODIFIED:20241020T182013Z
UID:10000001-1729411200-1729443600@www.tampabayhc.com
SUMMARY:001
DESCRIPTION:
URL:https://www.tampabayhc.com/event/001/
LOCATION:FL
END:VEVENT
END:VCALENDAR